BEGIN:VCALENDAR
VERSION:2.0
PRODID:icalendar-ruby
CALSCALE:GREGORIAN
METHOD:PUBLISH
BEGIN:VEVENT
DTSTAMP:20260422T104446Z
UID:42-1250763@covenantccc.org
DTSTART:20261008T190000Z
DTEND:20261008T200000Z
CLASS:PUBLIC
CREATED:20260421T175925
DESCRIPTION:
LAST-MODIFIED:20260421T175925
LOCATION:Prayer Room
SUMMARY:Corporate Prayer Meeting
URL;VALUE=URI:https://covenantccc.org/events/corporate-prayer-meeting/2026-
 10-08
ATTACH;FILENAME=TtnJ.jpg;FMTTYPE=image/jpeg:https://dq5pwpg1q8ru0.cloudfron
 t.net/2025/03/10/16/27/54/e52707ec-822b-41b6-89a2-77d87131a2cd/TtnJ.jpg
END:VEVENT
END:VCALENDAR
