BEGIN:VCALENDAR
VERSION:2.0
PRODID:icalendar-ruby
CALSCALE:GREGORIAN
METHOD:PUBLISH
BEGIN:VEVENT
DTSTAMP:20260424T071030Z
UID:11-1263854@covenantccc.org
DTSTART:20261011T020000Z
DTEND:20261011T030000Z
CLASS:PUBLIC
CREATED:20260423T193714
DESCRIPTION:
LAST-MODIFIED:20260423T193714
LOCATION:Prayer Room
SUMMARY:Prayer Meeting
URL;VALUE=URI:https://covenantccc.org/events/prayer-meeting/2026-10-10
ATTACH;FILENAME=TtnJ.jpg;FMTTYPE=image/jpeg:https://dq5pwpg1q8ru0.cloudfron
 t.net/2024/02/22/19/00/33/1d94210a-e201-4b1d-8cb4-cd0d9efef620/TtnJ.jpg
END:VEVENT
END:VCALENDAR
