BEGIN:VCALENDAR
VERSION:2.0
PRODID:icalendar-ruby
CALSCALE:GREGORIAN
METHOD:PUBLISH
BEGIN:VEVENT
DTSTAMP:20260424T102501Z
UID:59-1264477@covenantccc.org
DTSTART:20261011T010000Z
DTEND:20261011T030000Z
CLASS:PUBLIC
CREATED:20260423T193715
DESCRIPTION:
LAST-MODIFIED:20260423T193715
LOCATION:Upper Building
SUMMARY:Spanish Service
URL;VALUE=URI:https://covenantccc.org/events/spanish-service/2026-10-10
ATTACH;FILENAME=spanish-church.jpg;FMTTYPE=image/jpeg:https://dq5pwpg1q8ru0
 .cloudfront.net/2026/01/06/01/25/39/f24e444c-746a-4740-aeee-0032d32d9420/s
 panish-church.jpg
END:VEVENT
END:VCALENDAR
