BEGIN:VCALENDAR
VERSION:2.0
PRODID:icalendar-ruby
CALSCALE:GREGORIAN
METHOD:PUBLISH
BEGIN:VEVENT
DTSTAMP:20260421T140211Z
UID:38-1244990@covenantccc.org
DTSTART:20261004T170000Z
DTEND:20261004T183000Z
CLASS:PUBLIC
CREATED:20260421T045123
DESCRIPTION:
LAST-MODIFIED:20260421T045123
LOCATION:
SUMMARY:Sunday Morning Service
URL;VALUE=URI:https://covenantccc.org/events/sunday-morning-service/2026-10
 -04
ATTACH;FILENAME=Church-worship-black-%26-white.jpg;FMTTYPE=image/jpeg:https
 ://dq5pwpg1q8ru0.cloudfront.net/2025/01/27/23/26/31/e34ce86b-3aba-4522-b08
 6-db8af45ff21f/Church-worship-black-%2526-white.jpg
END:VEVENT
END:VCALENDAR
