BEGIN:VCALENDAR
VERSION:2.0
PRODID:icalendar-ruby
CALSCALE:GREGORIAN
METHOD:PUBLISH
BEGIN:VEVENT
DTSTAMP:20260421T201331Z
UID:38-1248406@covenantccc.org
DTSTART:20261101T180000Z
DTEND:20261101T193000Z
CLASS:PUBLIC
CREATED:20260421T124252
DESCRIPTION:
LAST-MODIFIED:20260421T124252
LOCATION:
SUMMARY:Sunday Morning Service
URL;VALUE=URI:https://covenantccc.org/events/sunday-morning-service/2026-11
 -01
ATTACH;FILENAME=Church-worship-black-%26-white.jpg;FMTTYPE=image/jpeg:https
 ://dq5pwpg1q8ru0.cloudfront.net/2025/01/27/23/26/31/e34ce86b-3aba-4522-b08
 6-db8af45ff21f/Church-worship-black-%2526-white.jpg
END:VEVENT
END:VCALENDAR
